BEGIN:VCALENDAR
VERSION:2.0
PRODID:-//ASAP - ECPv6.15.20//NONSGML v1.0//EN
CALSCALE:GREGORIAN
METHOD:PUBLISH
X-ORIGINAL-URL:https://asapasap.org
X-WR-CALDESC:Events for ASAP
REFRESH-INTERVAL;VALUE=DURATION:PT1H
X-Robots-Tag:noindex
X-PUBLISHED-TTL:PT1H
BEGIN:VTIMEZONE
TZID:America/Chicago
BEGIN:DAYLIGHT
TZOFFSETFROM:-0600
TZOFFSETTO:-0500
TZNAME:CDT
DTSTART:20250309T080000
END:DAYLIGHT
BEGIN:STANDARD
TZOFFSETFROM:-0500
TZOFFSETTO:-0600
TZNAME:CST
DTSTART:20251102T070000
END:STANDARD
BEGIN:DAYLIGHT
TZOFFSETFROM:-0600
TZOFFSETTO:-0500
TZNAME:CDT
DTSTART:20260308T080000
END:DAYLIGHT
BEGIN:STANDARD
TZOFFSETFROM:-0500
TZOFFSETTO:-0600
TZNAME:CST
DTSTART:20261101T070000
END:STANDARD
BEGIN:DAYLIGHT
TZOFFSETFROM:-0600
TZOFFSETTO:-0500
TZNAME:CDT
DTSTART:20270314T080000
END:DAYLIGHT
BEGIN:STANDARD
TZOFFSETFROM:-0500
TZOFFSETTO:-0600
TZNAME:CST
DTSTART:20271107T070000
END:STANDARD
END:VTIMEZONE
BEGIN:VEVENT
DTSTART;TZID=America/Chicago:20260613T100000
DTEND;TZID=America/Chicago:20260613T120000
DTSTAMP:20260424T103949
CREATED:20260421T191107Z
LAST-MODIFIED:20260421T191138Z
UID:10000975-1781344800-1781352000@asapasap.org
SUMMARY:Boots & Basics: Two-Step + Country Swing
DESCRIPTION:Ready to get out on the dance floor but not sure where to start? This is the perfect place. In this fun\, beginner-friendly 2-hour workshop\, you’ll learn the foundations of both Country Two-Step and Country Swing — two of the most popular and social partner dances around. \n\n\n\nWe’ll break everything down step-by-step so you can feel comfortable\, confident\, and actually enjoy dancing right away. \n\n\n\nWhether you’re coming solo or with a partner\, this workshop is designed to be: \n\n\n\n\nEasy to follow\n\n\n\nLow pressure\n\n\n\nFull of laughs and movement\n\n\n\n\nBy the end\, you’ll have the basics down and be ready to get out on the dance floor withconfidence. Come ready to laugh\, move\, and have a great time! \n\n\n\nTo provide the best experience for partner dancing\, we aim to maintain a balanced ratio ofleaders and followers. If needed\, we may adjust to alternative dance styles for theworkshop. Any changes will be communicated in advance so you can plan accordingly. \n\n\n\n\n\n\n\nAbout the Instructor \n\n\n\nAs a country line dance and partner dance instructor\, Autumn Duran has a true gift for teaching. She breaks down every move into simple\, easy-to-follow steps so that beginners feel comfortable and confident from day one — while still challenging more experienced dancers to grow and improve. \n\n\n\nHer classes are more than just lessons—they’re a place to laugh\, learn\, and build confidence. Autumn comes from a proud military family with deep roots in service. Both of her parents served in the United States Air Force\, and her grandfather was a highly decorated Combat Controller who received two Purple Hearts. That legacy of discipline\, dedication\, and heart carries into everything she does—both on and off the dance floor.
URL:https://asapasap.org/event/two-step/
LOCATION:The Attic Dancehall\, 134 Rusch Lane\, New Braunfels\, Texas\, 78132\, United States
CATEGORIES:San Antonio,Workshop
ATTACH;FMTTYPE=image/jpeg:https://asapasap.org/wp-content/uploads/2026/04/55193115598_e9969930b9_o-scaled.jpeg
END:VEVENT
END:VCALENDAR